BEGIN:VCALENDAR
VERSION:2.0
PRODID:floktu.com
X-WR-TIMEZONE:Australia/Sydney
X-PUBLISHED-TTL:P1W
BEGIN:VEVENT
UID:FloktuEvent34063@floktu.com
DTSTART;TZID=Australia/Sydney:20251125T100000
SEQUENCE:0
TRANSP:OPAQUE
DTEND;TZID=Australia/Sydney:20260219T140000
SUMMARY:IMCWire Delivers Trusted Press Release Services for Effective Media
  Impact
DESCRIPTION:Visit https://imcwire-delivers-trusted-press-release-services.f
 loktu.com for more information.
DTSTAMP:20260423T191002Z
END:VEVENT
BEGIN:VTIMEZONE
TZID:Australia/Sydney
X-LIC-LOCATION:Australia/Sydney
END:VTIMEZONE
END:VCALENDAR