BEGIN:VCALENDAR
VERSION:2.0
PRODID:floktu.com
X-PUBLISHED-TTL:P1W
BEGIN:VEVENT
UID:FloktuEvent34063@floktu.com
DTSTART:20251124T230000Z
SEQUENCE:0
TRANSP:OPAQUE
DTEND:20260219T030000Z
SUMMARY:IMCWire Delivers Trusted Press Release Services for Effective Media
  Impact
DESCRIPTION:Visit https://imcwire-delivers-trusted-press-release-services.f
 loktu.com for more information.
DTSTAMP:20260423T184737Z
END:VEVENT
END:VCALENDAR